BEGIN:VCALENDAR
VERSION:2.0
PRODID:-//eventon.com NONSGML v1.0//EN
CALSCALE:GREGORIAN
METHOD:PUBLISH
BEGIN:VEVENT
UID:69e745986dc7c
DTSTAMP:20260421T093832Z
DTSTART:20170810
DTEND:20170811
LOCATION:Sandwich\,  Massachusetts 1175 MA-28\,  South Yarmouth\,  MA 02664
SUMMARY:Cape Cod Scottish Festival
DESCRIPTION:Cape Cod Scottish Festival\nhttps://americanclanlockhartsociety
 .org/events/cape-cod-scottish-festival/
URL:https://americanclanlockhartsociety.org/events/cape-cod-scottish-festival/
END:VEVENT
END:VCALENDAR