BEGIN:VCALENDAR
VERSION:2.0
PRODID:-//eventon.com NONSGML v1.0//EN
CALSCALE:GREGORIAN
METHOD:PUBLISH
BEGIN:VEVENT
UID:69e5728d238b0
DTSTAMP:20260420T002549Z
DTSTART:20230520
DTEND:20230521
LOCATION:Townsend Visitors Center 7906 E Lamar Alexander Pkwy\,  Townsend\,  TN 37882
SUMMARY:Smoky Mountain Scottish Festival and Games
DESCRIPTION:\nhttps://americanclanlockhartsociety.org/events/smoky-mountain
 -scottish-festival-and-games/
URL:https://americanclanlockhartsociety.org/events/smoky-mountain-scottish-festival-and-games/
END:VEVENT
END:VCALENDAR