BEGIN:VCALENDAR
VERSION:2.0
PRODID:-//eventon.com NONSGML v1.0//EN
CALSCALE:GREGORIAN
METHOD:PUBLISH
BEGIN:VEVENT
UID:69e5e7414739b
DTSTAMP:20260420T084345Z
DTSTART:20230907
DTEND:20230908
LOCATION:Edinboro\,  PA 219 Meadville Street\,  Edinboro\,  PA 16444
SUMMARY:PennWest Edinboro Highland Games and Scottish Festival
DESCRIPTION:\nhttps://americanclanlockhartsociety.org/events/pennwest-edinb
 oro-highland-games-and-scottish-festival/
URL:https://americanclanlockhartsociety.org/events/pennwest-edinboro-highland-games-and-scottish-festival/
END:VEVENT
END:VCALENDAR