BEGIN:VCALENDAR
VERSION:2.0
PRODID:-//eventon.com NONSGML v1.0//EN
CALSCALE:GREGORIAN
METHOD:PUBLISH
BEGIN:VEVENT
UID:69e9734839741
DTSTAMP:20260423T011800Z
DTSTART:20231020
DTEND:20231021
LOCATION:Stone Mountain Park Stone Mountain Park\,  1000 Robert E. Lee Blvd\,  Stone Mountain\,  GA 30083
SUMMARY:Stone Mountain Highland Games and Scottish Festival
DESCRIPTION:\nhttps://americanclanlockhartsociety.org/events/stone-mountain
 -highland-games-and-scottish-festival/
URL:https://americanclanlockhartsociety.org/events/stone-mountain-highland-games-and-scottish-festival/
END:VEVENT
END:VCALENDAR