BEGIN:VCALENDAR
VERSION:2.0
PRODID:-//eventon.com NONSGML v1.0//EN
CALSCALE:GREGORIAN
METHOD:PUBLISH
BEGIN:VEVENT
UID:69e74409699e6
DTSTAMP:20260421T093153Z
DTSTART:20180715
DTEND:20180716
LOCATION:Bush Park 600 Mission St SE\,  Salem\,  OR 97302
SUMMARY:Lockhart Reunion
DESCRIPTION:Lockhart Reunion\nhttps://americanclanlockhartsociety.org/event
 s/lockhart-reunion/
URL:https://americanclanlockhartsociety.org/events/lockhart-reunion/
END:VEVENT
END:VCALENDAR