BEGIN:VCALENDAR
VERSION:2.0
PRODID:-//eventon.com NONSGML v1.0//EN
CALSCALE:GREGORIAN
METHOD:PUBLISH
BEGIN:VEVENT
UID:69e64daebc5b1
DTSTAMP:20260420T160046Z
DTSTART:20180818
DTEND:20180819
LOCATION:Daly Mansion 251 Eastside Highway. Hamilton\,  Montana 59840
SUMMARY:Bitterroot  Scottish/Irish Festival
DESCRIPTION:Bitterroot Scottish/Irish Festival\nhttps://americanclanlockhar
 tsociety.org/events/bitterroot-scottish-irish-festival/
URL:https://americanclanlockhartsociety.org/events/bitterroot-scottish-irish-festival/
END:VEVENT
END:VCALENDAR