BEGIN:VCALENDAR
VERSION:2.0
PRODID:-//eventon.com NONSGML v1.0//EN
CALSCALE:GREGORIAN
METHOD:PUBLISH
BEGIN:VEVENT
UID:69e75c8796563
DTSTAMP:20260421T111623Z
DTSTART:20180908
DTEND:20180909
LOCATION:To Be Determined
SUMMARY:Cape Code Scottish Festival & Heavy Games
DESCRIPTION:Cape Code Scottish Festival & Heavy Games\nhttps://americanclan
 lockhartsociety.org/events/cape-code-scottish-festival-heavy-games/
URL:https://americanclanlockhartsociety.org/events/cape-code-scottish-festival-heavy-games/
END:VEVENT
END:VCALENDAR