BEGIN:VCALENDAR
VERSION:2.0
PRODID:-//eventon.com NONSGML v1.0//EN
CALSCALE:GREGORIAN
METHOD:PUBLISH
BEGIN:VEVENT
UID:69e6def0b7112
DTSTAMP:20260421T022032Z
DTSTART:20180929
DTEND:20180930
LOCATION:Dixon Fairgrounds 655 S 1st Street\,  Dixon\,  California 95620
SUMMARY:Dixon Scottish Games
DESCRIPTION:Dixon Scottish Games\nhttps://americanclanlockhartsociety.org/e
 vents/dixon-scottish-games/
URL:https://americanclanlockhartsociety.org/events/dixon-scottish-games/
END:VEVENT
END:VCALENDAR