BEGIN:VCALENDAR
VERSION:2.0
PRODID:-//eventon.com NONSGML v1.0//EN
CALSCALE:GREGORIAN
METHOD:PUBLISH
BEGIN:VEVENT
UID:69e890015af80
DTSTAMP:20260422T090817Z
DTSTART:20190406
DTEND:20190407
LOCATION:Helotes Festival Grounds 12210 Leslie Road\,  Helotes\,  TX 78023
SUMMARY:San Antonio Highland Games & Celtic Music Festival
DESCRIPTION:San Antonio Highland Games & Celtic Music Festival\nhttps://ame
 ricanclanlockhartsociety.org/events/san-antonio-highland-games-celtic-music
 -festival/
URL:https://americanclanlockhartsociety.org/events/san-antonio-highland-games-celtic-music-festival/
END:VEVENT
END:VCALENDAR