BEGIN:VCALENDAR
VERSION:2.0
PRODID:-//eventon.com NONSGML v1.0//EN
CALSCALE:GREGORIAN
METHOD:PUBLISH
BEGIN:VEVENT
UID:69e5e4e539190
DTSTAMP:20260420T083341Z
DTSTART:20190831
DTEND:20190901
LOCATION:Two Mile House 1189 Walnut Bottom Road\,  Carlisle\,  Pensylvania 17015
SUMMARY:McLain Festival
DESCRIPTION:McLain Festival\nhttps://americanclanlockhartsociety.org/events
 /mclain-festival/
URL:https://americanclanlockhartsociety.org/events/mclain-festival/
END:VEVENT
END:VCALENDAR