BEGIN:VCALENDAR
VERSION:2.0
PRODID:-//eventon.com NONSGML v1.0//EN
CALSCALE:GREGORIAN
METHOD:PUBLISH
BEGIN:VEVENT
UID:69e5e633d19fe
DTSTAMP:20260420T083915Z
DTSTART:20190927
DTEND:20190928
LOCATION:Bethleham\,  Pennsylvania 305 Conestoga Street\,  Bethleham\,  PA 18018
SUMMARY:Celtic Classic Highland Games & Festival
DESCRIPTION:Celtic Classic Highland Games & Festival\nhttps://americanclanl
 ockhartsociety.org/events/celtic-classic-highland-games-festival-2/
URL:https://americanclanlockhartsociety.org/events/celtic-classic-highland-games-festival-2/
END:VEVENT
END:VCALENDAR